BEGIN:VCALENDAR
VERSION:2.0
PRODID:-//E. L. Crossley Rowing - ECPv6.15.20//NONSGML v1.0//EN
CALSCALE:GREGORIAN
METHOD:PUBLISH
X-WR-CALNAME:E. L. Crossley Rowing
X-ORIGINAL-URL:http://crossleyrowing.ca
X-WR-CALDESC:Events for E. L. Crossley Rowing
REFRESH-INTERVAL;VALUE=DURATION:PT1H
X-Robots-Tag:noindex
X-PUBLISHED-TTL:PT1H
BEGIN:VTIMEZONE
TZID:America/Toronto
BEGIN:DAYLIGHT
TZOFFSETFROM:-0500
TZOFFSETTO:-0400
TZNAME:EDT
DTSTART:20230312T070000
END:DAYLIGHT
BEGIN:STANDARD
TZOFFSETFROM:-0400
TZOFFSETTO:-0500
TZNAME:EST
DTSTART:20231105T060000
END:STANDARD
BEGIN:DAYLIGHT
TZOFFSETFROM:-0500
TZOFFSETTO:-0400
TZNAME:EDT
DTSTART:20240310T070000
END:DAYLIGHT
BEGIN:STANDARD
TZOFFSETFROM:-0400
TZOFFSETTO:-0500
TZNAME:EST
DTSTART:20241103T060000
END:STANDARD
BEGIN:DAYLIGHT
TZOFFSETFROM:-0500
TZOFFSETTO:-0400
TZNAME:EDT
DTSTART:20250309T070000
END:DAYLIGHT
BEGIN:STANDARD
TZOFFSETFROM:-0400
TZOFFSETTO:-0500
TZNAME:EST
DTSTART:20251102T060000
END:STANDARD
END:VTIMEZONE
BEGIN:VEVENT
DTSTART;TZID=America/Toronto:20240701T000000
DTEND;TZID=America/Toronto:20240701T235959
DTSTAMP:20260424T130239
CREATED:20240317T141836Z
LAST-MODIFIED:20240317T142549Z
UID:331-1719792000-1719878399@crossleyrowing.ca
SUMMARY:Dominion Day Regatta
DESCRIPTION:Summer Club Rowers
URL:http://crossleyrowing.ca/event/dominion-day-regatta/
LOCATION:Allan A. Lamport Regatta Course\, Toronto Island\, Toronto\, Ontario\, Canada
CATEGORIES:Regatta,Sprint
END:VEVENT
BEGIN:VEVENT
DTSTART;TZID=America/Toronto:20240706T000000
DTEND;TZID=America/Toronto:20240706T235959
DTSTAMP:20260424T130239
CREATED:20240701T163849Z
LAST-MODIFIED:20240701T163849Z
UID:468-1720224000-1720310399@crossleyrowing.ca
SUMMARY:CORA Regatta - Welland
DESCRIPTION:Summer Club Rowers \n\nHosted By: Central Ontario Rowing Association\nSanctioned by RCA & ON (2024)\nhttps://www.regattacentral.com/v3/cms/regatta/9161/rules?org_id=0
URL:http://crossleyrowing.ca/event/cora-regatta-welland/
LOCATION:SNRC\, 270 Colborne St\, Welland\, Ontario\, L3C 4V9\, Canada
CATEGORIES:Regatta,Sprint
END:VEVENT
BEGIN:VEVENT
DTSTART;TZID=America/Toronto:20240713T000000
DTEND;TZID=America/Toronto:20240713T235959
DTSTAMP:20260424T130239
CREATED:20240317T141342Z
LAST-MODIFIED:20240317T142539Z
UID:329-1720828800-1720915199@crossleyrowing.ca
SUMMARY:Central Ontario Regatta Association (CORA) Championships
DESCRIPTION:Summer Club Rowers
URL:http://crossleyrowing.ca/event/central-ontario-regatta-association-cora-championships/
LOCATION:Henley Island\, 295 Henley Dr\, St catharines\, Ontario\, L2N4V9\, Canada
CATEGORIES:Regatta,Sprint
END:VEVENT
BEGIN:VEVENT
DTSTART;TZID=America/Toronto:20240720T000000
DTEND;TZID=America/Toronto:20240721T235959
DTSTAMP:20260424T130239
CREATED:20240317T202347Z
LAST-MODIFIED:20240421T145635Z
UID:347-1721433600-1721606399@crossleyrowing.ca
SUMMARY:RowON Championships
DESCRIPTION:Summer Club Rowers
URL:http://crossleyrowing.ca/event/rowon-championships/
LOCATION:SNRC\, 270 Colborne St\, Welland\, Ontario\, L3C 4V9\, Canada
CATEGORIES:Regatta,Sprint
END:VEVENT
BEGIN:VEVENT
DTSTART;TZID=America/Toronto:20240730T000000
DTEND;TZID=America/Toronto:20240804T235959
DTSTAMP:20260424T130239
CREATED:20240317T141207Z
LAST-MODIFIED:20240317T151108Z
UID:327-1722297600-1722815999@crossleyrowing.ca
SUMMARY:The 140th Royal Canadian Henley Regatta
DESCRIPTION:Summer Club Rowers \nHenley Island Live Stream (youtube.com)
URL:http://crossleyrowing.ca/event/the-140th-royal-canadian-henley-regatta/
LOCATION:Henley Island\, 295 Henley Dr\, St catharines\, Ontario\, L2N4V9\, Canada
CATEGORIES:Regatta,Sprint
END:VEVENT
END:VCALENDAR