BEGIN:VCALENDAR
VERSION:2.0
PRODID:-//E. L. Crossley Rowing - ECPv6.15.20//NONSGML v1.0//EN
CALSCALE:GREGORIAN
METHOD:PUBLISH
X-WR-CALNAME:E. L. Crossley Rowing
X-ORIGINAL-URL:http://crossleyrowing.ca
X-WR-CALDESC:Events for E. L. Crossley Rowing
REFRESH-INTERVAL;VALUE=DURATION:PT1H
X-Robots-Tag:noindex
X-PUBLISHED-TTL:PT1H
BEGIN:VTIMEZONE
TZID:America/Toronto
BEGIN:DAYLIGHT
TZOFFSETFROM:-0500
TZOFFSETTO:-0400
TZNAME:EDT
DTSTART:20240310T070000
END:DAYLIGHT
BEGIN:STANDARD
TZOFFSETFROM:-0400
TZOFFSETTO:-0500
TZNAME:EST
DTSTART:20241103T060000
END:STANDARD
BEGIN:DAYLIGHT
TZOFFSETFROM:-0500
TZOFFSETTO:-0400
TZNAME:EDT
DTSTART:20250309T070000
END:DAYLIGHT
BEGIN:STANDARD
TZOFFSETFROM:-0400
TZOFFSETTO:-0500
TZNAME:EST
DTSTART:20251102T060000
END:STANDARD
BEGIN:DAYLIGHT
TZOFFSETFROM:-0500
TZOFFSETTO:-0400
TZNAME:EDT
DTSTART:20260308T070000
END:DAYLIGHT
BEGIN:STANDARD
TZOFFSETFROM:-0400
TZOFFSETTO:-0500
TZNAME:EST
DTSTART:20261101T060000
END:STANDARD
END:VTIMEZONE
BEGIN:VEVENT
DTSTART;TZID=America/Toronto:20250511T000000
DTEND;TZID=America/Toronto:20250511T235959
DTSTAMP:20260423T234258
CREATED:20241012T223839Z
LAST-MODIFIED:20241012T223839Z
UID:516-1746921600-1747007999@crossleyrowing.ca
SUMMARY:Mother's Day Regatta
DESCRIPTION:
URL:http://crossleyrowing.ca/event/mothers-day-regatta/
LOCATION:Henley Island\, 295 Henley Dr\, St catharines\, Ontario\, L2N4V9\, Canada
CATEGORIES:Regatta,Sprint
END:VEVENT
END:VCALENDAR